BEGIN:VCALENDAR
VERSION:2.0
PRODID:-//Mas Rodó - ECPv6.2.2//NONSGML v1.0//EN
CALSCALE:GREGORIAN
METHOD:PUBLISH
X-WR-CALNAME:Mas Rodó
X-ORIGINAL-URL:https://www.masrodo.com
X-WR-CALDESC:Eventos para Mas Rodó
REFRESH-INTERVAL;VALUE=DURATION:PT1H
X-Robots-Tag:noindex
X-PUBLISHED-TTL:PT1H
BEGIN:VTIMEZONE
TZID:Europe/Paris
BEGIN:DAYLIGHT
TZOFFSETFROM:+0100
TZOFFSETTO:+0200
TZNAME:CEST
DTSTART:20260329T010000
END:DAYLIGHT
BEGIN:STANDARD
TZOFFSETFROM:+0200
TZOFFSETTO:+0100
TZNAME:CET
DTSTART:20261025T010000
END:STANDARD
END:VTIMEZONE
BEGIN:VEVENT
DTSTART;TZID=Europe/Paris:20260502T110000
DTEND;TZID=Europe/Paris:20260502T130000
DTSTAMP:20260422T154248
CREATED:20260116T084952Z
LAST-MODIFIED:20260116T084952Z
UID:18992-1777719600-1777726800@www.masrodo.com
SUMMARY:VISITA Y CATA DE 3 VINOS
DESCRIPTION:Visita y cata de 3 vinso a MAS RODÓ. No es una Reserva\, si no una «petició nde reserva» . Whatsap al 649877486. \nAGOSTO CERRADO
URL:https://www.masrodo.com/event/visita-y-cata-de-3-vinos-2/2026-05-02/
LOCATION:Finca Mas Rodó\, Carretera Sant Pere Sacarrera a Sant Joan de Mediona\, Km 2\,\, Sant Joan de Mediona\, Barcelona\, 08773\, Spain
ORGANIZER;CN="Mas Rod%C3%B3":MAILTO:enoturisme@masrodo.com
END:VEVENT
BEGIN:VEVENT
DTSTART;TZID=Europe/Paris:20260503T110000
DTEND;TZID=Europe/Paris:20260503T130000
DTSTAMP:20260422T154248
CREATED:20260116T084952Z
LAST-MODIFIED:20260116T084952Z
UID:18993-1777806000-1777813200@www.masrodo.com
SUMMARY:VISITA Y CATA DE 3 VINOS
DESCRIPTION:Visita y cata de 3 vinso a MAS RODÓ. No es una Reserva\, si no una «petició nde reserva» . Whatsap al 649877486. \nAGOSTO CERRADO
URL:https://www.masrodo.com/event/visita-y-cata-de-3-vinos-2/2026-05-03/
LOCATION:Finca Mas Rodó\, Carretera Sant Pere Sacarrera a Sant Joan de Mediona\, Km 2\,\, Sant Joan de Mediona\, Barcelona\, 08773\, Spain
ORGANIZER;CN="Mas Rod%C3%B3":MAILTO:enoturisme@masrodo.com
END:VEVENT
BEGIN:VEVENT
DTSTART;TZID=Europe/Paris:20260509T110000
DTEND;TZID=Europe/Paris:20260509T130000
DTSTAMP:20260422T154248
CREATED:20260116T084952Z
LAST-MODIFIED:20260116T084952Z
UID:18994-1778324400-1778331600@www.masrodo.com
SUMMARY:VISITA Y CATA DE 3 VINOS
DESCRIPTION:Visita y cata de 3 vinso a MAS RODÓ. No es una Reserva\, si no una «petició nde reserva» . Whatsap al 649877486. \nAGOSTO CERRADO
URL:https://www.masrodo.com/event/visita-y-cata-de-3-vinos-2/2026-05-09/
LOCATION:Finca Mas Rodó\, Carretera Sant Pere Sacarrera a Sant Joan de Mediona\, Km 2\,\, Sant Joan de Mediona\, Barcelona\, 08773\, Spain
ORGANIZER;CN="Mas Rod%C3%B3":MAILTO:enoturisme@masrodo.com
END:VEVENT
BEGIN:VEVENT
DTSTART;TZID=Europe/Paris:20260510T110000
DTEND;TZID=Europe/Paris:20260510T130000
DTSTAMP:20260422T154248
CREATED:20260116T084952Z
LAST-MODIFIED:20260116T084952Z
UID:18995-1778410800-1778418000@www.masrodo.com
SUMMARY:VISITA Y CATA DE 3 VINOS
DESCRIPTION:Visita y cata de 3 vinso a MAS RODÓ. No es una Reserva\, si no una «petició nde reserva» . Whatsap al 649877486. \nAGOSTO CERRADO
URL:https://www.masrodo.com/event/visita-y-cata-de-3-vinos-2/2026-05-10/
LOCATION:Finca Mas Rodó\, Carretera Sant Pere Sacarrera a Sant Joan de Mediona\, Km 2\,\, Sant Joan de Mediona\, Barcelona\, 08773\, Spain
ORGANIZER;CN="Mas Rod%C3%B3":MAILTO:enoturisme@masrodo.com
END:VEVENT
BEGIN:VEVENT
DTSTART;TZID=Europe/Paris:20260516T110000
DTEND;TZID=Europe/Paris:20260516T130000
DTSTAMP:20260422T154248
CREATED:20260116T084952Z
LAST-MODIFIED:20260116T084952Z
UID:18996-1778929200-1778936400@www.masrodo.com
SUMMARY:VISITA Y CATA DE 3 VINOS
DESCRIPTION:Visita y cata de 3 vinso a MAS RODÓ. No es una Reserva\, si no una «petició nde reserva» . Whatsap al 649877486. \nAGOSTO CERRADO
URL:https://www.masrodo.com/event/visita-y-cata-de-3-vinos-2/2026-05-16/
LOCATION:Finca Mas Rodó\, Carretera Sant Pere Sacarrera a Sant Joan de Mediona\, Km 2\,\, Sant Joan de Mediona\, Barcelona\, 08773\, Spain
ORGANIZER;CN="Mas Rod%C3%B3":MAILTO:enoturisme@masrodo.com
END:VEVENT
BEGIN:VEVENT
DTSTART;TZID=Europe/Paris:20260517T110000
DTEND;TZID=Europe/Paris:20260517T130000
DTSTAMP:20260422T154248
CREATED:20260116T084952Z
LAST-MODIFIED:20260116T084952Z
UID:18997-1779015600-1779022800@www.masrodo.com
SUMMARY:VISITA Y CATA DE 3 VINOS
DESCRIPTION:Visita y cata de 3 vinso a MAS RODÓ. No es una Reserva\, si no una «petició nde reserva» . Whatsap al 649877486. \nAGOSTO CERRADO
URL:https://www.masrodo.com/event/visita-y-cata-de-3-vinos-2/2026-05-17/
LOCATION:Finca Mas Rodó\, Carretera Sant Pere Sacarrera a Sant Joan de Mediona\, Km 2\,\, Sant Joan de Mediona\, Barcelona\, 08773\, Spain
ORGANIZER;CN="Mas Rod%C3%B3":MAILTO:enoturisme@masrodo.com
END:VEVENT
BEGIN:VEVENT
DTSTART;TZID=Europe/Paris:20260523T110000
DTEND;TZID=Europe/Paris:20260523T130000
DTSTAMP:20260422T154248
CREATED:20260116T084952Z
LAST-MODIFIED:20260116T084952Z
UID:18998-1779534000-1779541200@www.masrodo.com
SUMMARY:VISITA Y CATA DE 3 VINOS
DESCRIPTION:Visita y cata de 3 vinso a MAS RODÓ. No es una Reserva\, si no una «petició nde reserva» . Whatsap al 649877486. \nAGOSTO CERRADO
URL:https://www.masrodo.com/event/visita-y-cata-de-3-vinos-2/2026-05-23/
LOCATION:Finca Mas Rodó\, Carretera Sant Pere Sacarrera a Sant Joan de Mediona\, Km 2\,\, Sant Joan de Mediona\, Barcelona\, 08773\, Spain
ORGANIZER;CN="Mas Rod%C3%B3":MAILTO:enoturisme@masrodo.com
END:VEVENT
BEGIN:VEVENT
DTSTART;TZID=Europe/Paris:20260524T110000
DTEND;TZID=Europe/Paris:20260524T130000
DTSTAMP:20260422T154248
CREATED:20260116T084952Z
LAST-MODIFIED:20260116T084952Z
UID:18999-1779620400-1779627600@www.masrodo.com
SUMMARY:VISITA Y CATA DE 3 VINOS
DESCRIPTION:Visita y cata de 3 vinso a MAS RODÓ. No es una Reserva\, si no una «petició nde reserva» . Whatsap al 649877486. \nAGOSTO CERRADO
URL:https://www.masrodo.com/event/visita-y-cata-de-3-vinos-2/2026-05-24/
LOCATION:Finca Mas Rodó\, Carretera Sant Pere Sacarrera a Sant Joan de Mediona\, Km 2\,\, Sant Joan de Mediona\, Barcelona\, 08773\, Spain
ORGANIZER;CN="Mas Rod%C3%B3":MAILTO:enoturisme@masrodo.com
END:VEVENT
BEGIN:VEVENT
DTSTART;TZID=Europe/Paris:20260530T110000
DTEND;TZID=Europe/Paris:20260530T130000
DTSTAMP:20260422T154248
CREATED:20260116T084952Z
LAST-MODIFIED:20260116T084952Z
UID:19000-1780138800-1780146000@www.masrodo.com
SUMMARY:VISITA Y CATA DE 3 VINOS
DESCRIPTION:Visita y cata de 3 vinso a MAS RODÓ. No es una Reserva\, si no una «petició nde reserva» . Whatsap al 649877486. \nAGOSTO CERRADO
URL:https://www.masrodo.com/event/visita-y-cata-de-3-vinos-2/2026-05-30/
LOCATION:Finca Mas Rodó\, Carretera Sant Pere Sacarrera a Sant Joan de Mediona\, Km 2\,\, Sant Joan de Mediona\, Barcelona\, 08773\, Spain
ORGANIZER;CN="Mas Rod%C3%B3":MAILTO:enoturisme@masrodo.com
END:VEVENT
BEGIN:VEVENT
DTSTART;TZID=Europe/Paris:20260531T110000
DTEND;TZID=Europe/Paris:20260531T130000
DTSTAMP:20260422T154248
CREATED:20260116T084952Z
LAST-MODIFIED:20260116T084952Z
UID:19001-1780225200-1780232400@www.masrodo.com
SUMMARY:VISITA Y CATA DE 3 VINOS
DESCRIPTION:Visita y cata de 3 vinso a MAS RODÓ. No es una Reserva\, si no una «petició nde reserva» . Whatsap al 649877486. \nAGOSTO CERRADO
URL:https://www.masrodo.com/event/visita-y-cata-de-3-vinos-2/2026-05-31/
LOCATION:Finca Mas Rodó\, Carretera Sant Pere Sacarrera a Sant Joan de Mediona\, Km 2\,\, Sant Joan de Mediona\, Barcelona\, 08773\, Spain
ORGANIZER;CN="Mas Rod%C3%B3":MAILTO:enoturisme@masrodo.com
END:VEVENT
END:VCALENDAR