BEGIN:VCALENDAR
VERSION:2.0
PRODID:-//Mas Rodó - ECPv6.2.2//NONSGML v1.0//EN
CALSCALE:GREGORIAN
METHOD:PUBLISH
X-ORIGINAL-URL:https://www.masrodo.com
X-WR-CALDESC:Eventos para Mas Rodó
REFRESH-INTERVAL;VALUE=DURATION:PT1H
X-Robots-Tag:noindex
X-PUBLISHED-TTL:PT1H
BEGIN:VTIMEZONE
TZID:Europe/Paris
BEGIN:DAYLIGHT
TZOFFSETFROM:+0100
TZOFFSETTO:+0200
TZNAME:CEST
DTSTART:20260329T010000
END:DAYLIGHT
BEGIN:STANDARD
TZOFFSETFROM:+0200
TZOFFSETTO:+0100
TZNAME:CET
DTSTART:20261025T010000
END:STANDARD
END:VTIMEZONE
BEGIN:VEVENT
DTSTART;TZID=Europe/Paris:20260418T110000
DTEND;TZID=Europe/Paris:20260418T130000
DTSTAMP:20260422T185940
CREATED:20260116T084952Z
LAST-MODIFIED:20260116T084952Z
UID:18988-1776510000-1776517200@www.masrodo.com
SUMMARY:VISITA Y CATA DE 3 VINOS
DESCRIPTION:Visita y cata de 3 vinso a MAS RODÓ. No es una Reserva\, si no una «petició nde reserva» . Whatsap al 649877486. \nAGOSTO CERRADO
URL:https://www.masrodo.com/event/visita-y-cata-de-3-vinos-2/2026-04-18/
LOCATION:Finca Mas Rodó\, Carretera Sant Pere Sacarrera a Sant Joan de Mediona\, Km 2\,\, Sant Joan de Mediona\, Barcelona\, 08773\, Spain
ORGANIZER;CN="Mas Rod%C3%B3":MAILTO:enoturisme@masrodo.com
END:VEVENT
BEGIN:VEVENT
DTSTART;TZID=Europe/Paris:20260419T110000
DTEND;TZID=Europe/Paris:20260419T130000
DTSTAMP:20260422T185940
CREATED:20260116T084952Z
LAST-MODIFIED:20260116T084952Z
UID:18989-1776596400-1776603600@www.masrodo.com
SUMMARY:VISITA Y CATA DE 3 VINOS
DESCRIPTION:Visita y cata de 3 vinso a MAS RODÓ. No es una Reserva\, si no una «petició nde reserva» . Whatsap al 649877486. \nAGOSTO CERRADO
URL:https://www.masrodo.com/event/visita-y-cata-de-3-vinos-2/2026-04-19/
LOCATION:Finca Mas Rodó\, Carretera Sant Pere Sacarrera a Sant Joan de Mediona\, Km 2\,\, Sant Joan de Mediona\, Barcelona\, 08773\, Spain
ORGANIZER;CN="Mas Rod%C3%B3":MAILTO:enoturisme@masrodo.com
END:VEVENT
BEGIN:VEVENT
DTSTART;TZID=Europe/Paris:20260425T110000
DTEND;TZID=Europe/Paris:20260425T130000
DTSTAMP:20260422T185940
CREATED:20260116T084952Z
LAST-MODIFIED:20260116T084952Z
UID:18990-1777114800-1777122000@www.masrodo.com
SUMMARY:VISITA Y CATA DE 3 VINOS
DESCRIPTION:Visita y cata de 3 vinso a MAS RODÓ. No es una Reserva\, si no una «petició nde reserva» . Whatsap al 649877486. \nAGOSTO CERRADO
URL:https://www.masrodo.com/event/visita-y-cata-de-3-vinos-2/2026-04-25/
LOCATION:Finca Mas Rodó\, Carretera Sant Pere Sacarrera a Sant Joan de Mediona\, Km 2\,\, Sant Joan de Mediona\, Barcelona\, 08773\, Spain
ORGANIZER;CN="Mas Rod%C3%B3":MAILTO:enoturisme@masrodo.com
END:VEVENT
BEGIN:VEVENT
DTSTART;TZID=Europe/Paris:20260426T110000
DTEND;TZID=Europe/Paris:20260426T130000
DTSTAMP:20260422T185940
CREATED:20260116T084952Z
LAST-MODIFIED:20260116T084952Z
UID:18991-1777201200-1777208400@www.masrodo.com
SUMMARY:VISITA Y CATA DE 3 VINOS
DESCRIPTION:Visita y cata de 3 vinso a MAS RODÓ. No es una Reserva\, si no una «petició nde reserva» . Whatsap al 649877486. \nAGOSTO CERRADO
URL:https://www.masrodo.com/event/visita-y-cata-de-3-vinos-2/2026-04-26/
LOCATION:Finca Mas Rodó\, Carretera Sant Pere Sacarrera a Sant Joan de Mediona\, Km 2\,\, Sant Joan de Mediona\, Barcelona\, 08773\, Spain
ORGANIZER;CN="Mas Rod%C3%B3":MAILTO:enoturisme@masrodo.com
END:VEVENT
BEGIN:VEVENT
DTSTART;TZID=Europe/Paris:20260502T110000
DTEND;TZID=Europe/Paris:20260502T130000
DTSTAMP:20260422T185940
CREATED:20260116T084952Z
LAST-MODIFIED:20260116T084952Z
UID:18992-1777719600-1777726800@www.masrodo.com
SUMMARY:VISITA Y CATA DE 3 VINOS
DESCRIPTION:Visita y cata de 3 vinso a MAS RODÓ. No es una Reserva\, si no una «petició nde reserva» . Whatsap al 649877486. \nAGOSTO CERRADO
URL:https://www.masrodo.com/event/visita-y-cata-de-3-vinos-2/2026-05-02/
LOCATION:Finca Mas Rodó\, Carretera Sant Pere Sacarrera a Sant Joan de Mediona\, Km 2\,\, Sant Joan de Mediona\, Barcelona\, 08773\, Spain
ORGANIZER;CN="Mas Rod%C3%B3":MAILTO:enoturisme@masrodo.com
END:VEVENT
BEGIN:VEVENT
DTSTART;TZID=Europe/Paris:20260503T110000
DTEND;TZID=Europe/Paris:20260503T130000
DTSTAMP:20260422T185940
CREATED:20260116T084952Z
LAST-MODIFIED:20260116T084952Z
UID:18993-1777806000-1777813200@www.masrodo.com
SUMMARY:VISITA Y CATA DE 3 VINOS
DESCRIPTION:Visita y cata de 3 vinso a MAS RODÓ. No es una Reserva\, si no una «petició nde reserva» . Whatsap al 649877486. \nAGOSTO CERRADO
URL:https://www.masrodo.com/event/visita-y-cata-de-3-vinos-2/2026-05-03/
LOCATION:Finca Mas Rodó\, Carretera Sant Pere Sacarrera a Sant Joan de Mediona\, Km 2\,\, Sant Joan de Mediona\, Barcelona\, 08773\, Spain
ORGANIZER;CN="Mas Rod%C3%B3":MAILTO:enoturisme@masrodo.com
END:VEVENT
BEGIN:VEVENT
DTSTART;TZID=Europe/Paris:20260509T110000
DTEND;TZID=Europe/Paris:20260509T130000
DTSTAMP:20260422T185940
CREATED:20260116T084952Z
LAST-MODIFIED:20260116T084952Z
UID:18994-1778324400-1778331600@www.masrodo.com
SUMMARY:VISITA Y CATA DE 3 VINOS
DESCRIPTION:Visita y cata de 3 vinso a MAS RODÓ. No es una Reserva\, si no una «petició nde reserva» . Whatsap al 649877486. \nAGOSTO CERRADO
URL:https://www.masrodo.com/event/visita-y-cata-de-3-vinos-2/2026-05-09/
LOCATION:Finca Mas Rodó\, Carretera Sant Pere Sacarrera a Sant Joan de Mediona\, Km 2\,\, Sant Joan de Mediona\, Barcelona\, 08773\, Spain
ORGANIZER;CN="Mas Rod%C3%B3":MAILTO:enoturisme@masrodo.com
END:VEVENT
BEGIN:VEVENT
DTSTART;TZID=Europe/Paris:20260510T110000
DTEND;TZID=Europe/Paris:20260510T130000
DTSTAMP:20260422T185940
CREATED:20260116T084952Z
LAST-MODIFIED:20260116T084952Z
UID:18995-1778410800-1778418000@www.masrodo.com
SUMMARY:VISITA Y CATA DE 3 VINOS
DESCRIPTION:Visita y cata de 3 vinso a MAS RODÓ. No es una Reserva\, si no una «petició nde reserva» . Whatsap al 649877486. \nAGOSTO CERRADO
URL:https://www.masrodo.com/event/visita-y-cata-de-3-vinos-2/2026-05-10/
LOCATION:Finca Mas Rodó\, Carretera Sant Pere Sacarrera a Sant Joan de Mediona\, Km 2\,\, Sant Joan de Mediona\, Barcelona\, 08773\, Spain
ORGANIZER;CN="Mas Rod%C3%B3":MAILTO:enoturisme@masrodo.com
END:VEVENT
BEGIN:VEVENT
DTSTART;TZID=Europe/Paris:20260516T110000
DTEND;TZID=Europe/Paris:20260516T130000
DTSTAMP:20260422T185940
CREATED:20260116T084952Z
LAST-MODIFIED:20260116T084952Z
UID:18996-1778929200-1778936400@www.masrodo.com
SUMMARY:VISITA Y CATA DE 3 VINOS
DESCRIPTION:Visita y cata de 3 vinso a MAS RODÓ. No es una Reserva\, si no una «petició nde reserva» . Whatsap al 649877486. \nAGOSTO CERRADO
URL:https://www.masrodo.com/event/visita-y-cata-de-3-vinos-2/2026-05-16/
LOCATION:Finca Mas Rodó\, Carretera Sant Pere Sacarrera a Sant Joan de Mediona\, Km 2\,\, Sant Joan de Mediona\, Barcelona\, 08773\, Spain
ORGANIZER;CN="Mas Rod%C3%B3":MAILTO:enoturisme@masrodo.com
END:VEVENT
BEGIN:VEVENT
DTSTART;TZID=Europe/Paris:20260517T110000
DTEND;TZID=Europe/Paris:20260517T130000
DTSTAMP:20260422T185940
CREATED:20260116T084952Z
LAST-MODIFIED:20260116T084952Z
UID:18997-1779015600-1779022800@www.masrodo.com
SUMMARY:VISITA Y CATA DE 3 VINOS
DESCRIPTION:Visita y cata de 3 vinso a MAS RODÓ. No es una Reserva\, si no una «petició nde reserva» . Whatsap al 649877486. \nAGOSTO CERRADO
URL:https://www.masrodo.com/event/visita-y-cata-de-3-vinos-2/2026-05-17/
LOCATION:Finca Mas Rodó\, Carretera Sant Pere Sacarrera a Sant Joan de Mediona\, Km 2\,\, Sant Joan de Mediona\, Barcelona\, 08773\, Spain
ORGANIZER;CN="Mas Rod%C3%B3":MAILTO:enoturisme@masrodo.com
END:VEVENT
BEGIN:VEVENT
DTSTART;TZID=Europe/Paris:20260523T110000
DTEND;TZID=Europe/Paris:20260523T130000
DTSTAMP:20260422T185940
CREATED:20260116T084952Z
LAST-MODIFIED:20260116T084952Z
UID:18998-1779534000-1779541200@www.masrodo.com
SUMMARY:VISITA Y CATA DE 3 VINOS
DESCRIPTION:Visita y cata de 3 vinso a MAS RODÓ. No es una Reserva\, si no una «petició nde reserva» . Whatsap al 649877486. \nAGOSTO CERRADO
URL:https://www.masrodo.com/event/visita-y-cata-de-3-vinos-2/2026-05-23/
LOCATION:Finca Mas Rodó\, Carretera Sant Pere Sacarrera a Sant Joan de Mediona\, Km 2\,\, Sant Joan de Mediona\, Barcelona\, 08773\, Spain
ORGANIZER;CN="Mas Rod%C3%B3":MAILTO:enoturisme@masrodo.com
END:VEVENT
BEGIN:VEVENT
DTSTART;TZID=Europe/Paris:20260524T110000
DTEND;TZID=Europe/Paris:20260524T130000
DTSTAMP:20260422T185940
CREATED:20260116T084952Z
LAST-MODIFIED:20260116T084952Z
UID:18999-1779620400-1779627600@www.masrodo.com
SUMMARY:VISITA Y CATA DE 3 VINOS
DESCRIPTION:Visita y cata de 3 vinso a MAS RODÓ. No es una Reserva\, si no una «petició nde reserva» . Whatsap al 649877486. \nAGOSTO CERRADO
URL:https://www.masrodo.com/event/visita-y-cata-de-3-vinos-2/2026-05-24/
LOCATION:Finca Mas Rodó\, Carretera Sant Pere Sacarrera a Sant Joan de Mediona\, Km 2\,\, Sant Joan de Mediona\, Barcelona\, 08773\, Spain
ORGANIZER;CN="Mas Rod%C3%B3":MAILTO:enoturisme@masrodo.com
END:VEVENT
BEGIN:VEVENT
DTSTART;TZID=Europe/Paris:20260530T110000
DTEND;TZID=Europe/Paris:20260530T130000
DTSTAMP:20260422T185940
CREATED:20260116T084952Z
LAST-MODIFIED:20260116T084952Z
UID:19000-1780138800-1780146000@www.masrodo.com
SUMMARY:VISITA Y CATA DE 3 VINOS
DESCRIPTION:Visita y cata de 3 vinso a MAS RODÓ. No es una Reserva\, si no una «petició nde reserva» . Whatsap al 649877486. \nAGOSTO CERRADO
URL:https://www.masrodo.com/event/visita-y-cata-de-3-vinos-2/2026-05-30/
LOCATION:Finca Mas Rodó\, Carretera Sant Pere Sacarrera a Sant Joan de Mediona\, Km 2\,\, Sant Joan de Mediona\, Barcelona\, 08773\, Spain
ORGANIZER;CN="Mas Rod%C3%B3":MAILTO:enoturisme@masrodo.com
END:VEVENT
BEGIN:VEVENT
DTSTART;TZID=Europe/Paris:20260531T110000
DTEND;TZID=Europe/Paris:20260531T130000
DTSTAMP:20260422T185940
CREATED:20260116T084952Z
LAST-MODIFIED:20260116T084952Z
UID:19001-1780225200-1780232400@www.masrodo.com
SUMMARY:VISITA Y CATA DE 3 VINOS
DESCRIPTION:Visita y cata de 3 vinso a MAS RODÓ. No es una Reserva\, si no una «petició nde reserva» . Whatsap al 649877486. \nAGOSTO CERRADO
URL:https://www.masrodo.com/event/visita-y-cata-de-3-vinos-2/2026-05-31/
LOCATION:Finca Mas Rodó\, Carretera Sant Pere Sacarrera a Sant Joan de Mediona\, Km 2\,\, Sant Joan de Mediona\, Barcelona\, 08773\, Spain
ORGANIZER;CN="Mas Rod%C3%B3":MAILTO:enoturisme@masrodo.com
END:VEVENT
BEGIN:VEVENT
DTSTART;TZID=Europe/Paris:20260606T110000
DTEND;TZID=Europe/Paris:20260606T130000
DTSTAMP:20260422T185940
CREATED:20260116T084952Z
LAST-MODIFIED:20260116T084952Z
UID:19002-1780743600-1780750800@www.masrodo.com
SUMMARY:VISITA Y CATA DE 3 VINOS
DESCRIPTION:Visita y cata de 3 vinso a MAS RODÓ. No es una Reserva\, si no una «petició nde reserva» . Whatsap al 649877486. \nAGOSTO CERRADO
URL:https://www.masrodo.com/event/visita-y-cata-de-3-vinos-2/2026-06-06/
LOCATION:Finca Mas Rodó\, Carretera Sant Pere Sacarrera a Sant Joan de Mediona\, Km 2\,\, Sant Joan de Mediona\, Barcelona\, 08773\, Spain
ORGANIZER;CN="Mas Rod%C3%B3":MAILTO:enoturisme@masrodo.com
END:VEVENT
BEGIN:VEVENT
DTSTART;TZID=Europe/Paris:20260607T110000
DTEND;TZID=Europe/Paris:20260607T130000
DTSTAMP:20260422T185940
CREATED:20260116T084952Z
LAST-MODIFIED:20260116T084952Z
UID:19003-1780830000-1780837200@www.masrodo.com
SUMMARY:VISITA Y CATA DE 3 VINOS
DESCRIPTION:Visita y cata de 3 vinso a MAS RODÓ. No es una Reserva\, si no una «petició nde reserva» . Whatsap al 649877486. \nAGOSTO CERRADO
URL:https://www.masrodo.com/event/visita-y-cata-de-3-vinos-2/2026-06-07/
LOCATION:Finca Mas Rodó\, Carretera Sant Pere Sacarrera a Sant Joan de Mediona\, Km 2\,\, Sant Joan de Mediona\, Barcelona\, 08773\, Spain
ORGANIZER;CN="Mas Rod%C3%B3":MAILTO:enoturisme@masrodo.com
END:VEVENT
BEGIN:VEVENT
DTSTART;TZID=Europe/Paris:20260613T110000
DTEND;TZID=Europe/Paris:20260613T130000
DTSTAMP:20260422T185940
CREATED:20260116T084952Z
LAST-MODIFIED:20260116T084952Z
UID:19004-1781348400-1781355600@www.masrodo.com
SUMMARY:VISITA Y CATA DE 3 VINOS
DESCRIPTION:Visita y cata de 3 vinso a MAS RODÓ. No es una Reserva\, si no una «petició nde reserva» . Whatsap al 649877486. \nAGOSTO CERRADO
URL:https://www.masrodo.com/event/visita-y-cata-de-3-vinos-2/2026-06-13/
LOCATION:Finca Mas Rodó\, Carretera Sant Pere Sacarrera a Sant Joan de Mediona\, Km 2\,\, Sant Joan de Mediona\, Barcelona\, 08773\, Spain
ORGANIZER;CN="Mas Rod%C3%B3":MAILTO:enoturisme@masrodo.com
END:VEVENT
BEGIN:VEVENT
DTSTART;TZID=Europe/Paris:20260614T110000
DTEND;TZID=Europe/Paris:20260614T130000
DTSTAMP:20260422T185940
CREATED:20260116T084952Z
LAST-MODIFIED:20260116T084952Z
UID:19005-1781434800-1781442000@www.masrodo.com
SUMMARY:VISITA Y CATA DE 3 VINOS
DESCRIPTION:Visita y cata de 3 vinso a MAS RODÓ. No es una Reserva\, si no una «petició nde reserva» . Whatsap al 649877486. \nAGOSTO CERRADO
URL:https://www.masrodo.com/event/visita-y-cata-de-3-vinos-2/2026-06-14/
LOCATION:Finca Mas Rodó\, Carretera Sant Pere Sacarrera a Sant Joan de Mediona\, Km 2\,\, Sant Joan de Mediona\, Barcelona\, 08773\, Spain
ORGANIZER;CN="Mas Rod%C3%B3":MAILTO:enoturisme@masrodo.com
END:VEVENT
BEGIN:VEVENT
DTSTART;TZID=Europe/Paris:20260620T110000
DTEND;TZID=Europe/Paris:20260620T130000
DTSTAMP:20260422T185940
CREATED:20260116T084952Z
LAST-MODIFIED:20260116T084952Z
UID:19006-1781953200-1781960400@www.masrodo.com
SUMMARY:VISITA Y CATA DE 3 VINOS
DESCRIPTION:Visita y cata de 3 vinso a MAS RODÓ. No es una Reserva\, si no una «petició nde reserva» . Whatsap al 649877486. \nAGOSTO CERRADO
URL:https://www.masrodo.com/event/visita-y-cata-de-3-vinos-2/2026-06-20/
LOCATION:Finca Mas Rodó\, Carretera Sant Pere Sacarrera a Sant Joan de Mediona\, Km 2\,\, Sant Joan de Mediona\, Barcelona\, 08773\, Spain
ORGANIZER;CN="Mas Rod%C3%B3":MAILTO:enoturisme@masrodo.com
END:VEVENT
BEGIN:VEVENT
DTSTART;TZID=Europe/Paris:20260621T110000
DTEND;TZID=Europe/Paris:20260621T130000
DTSTAMP:20260422T185940
CREATED:20260116T084952Z
LAST-MODIFIED:20260116T084952Z
UID:19007-1782039600-1782046800@www.masrodo.com
SUMMARY:VISITA Y CATA DE 3 VINOS
DESCRIPTION:Visita y cata de 3 vinso a MAS RODÓ. No es una Reserva\, si no una «petició nde reserva» . Whatsap al 649877486. \nAGOSTO CERRADO
URL:https://www.masrodo.com/event/visita-y-cata-de-3-vinos-2/2026-06-21/
LOCATION:Finca Mas Rodó\, Carretera Sant Pere Sacarrera a Sant Joan de Mediona\, Km 2\,\, Sant Joan de Mediona\, Barcelona\, 08773\, Spain
ORGANIZER;CN="Mas Rod%C3%B3":MAILTO:enoturisme@masrodo.com
END:VEVENT
BEGIN:VEVENT
DTSTART;TZID=Europe/Paris:20260627T110000
DTEND;TZID=Europe/Paris:20260627T130000
DTSTAMP:20260422T185940
CREATED:20260116T084952Z
LAST-MODIFIED:20260116T084952Z
UID:19008-1782558000-1782565200@www.masrodo.com
SUMMARY:VISITA Y CATA DE 3 VINOS
DESCRIPTION:Visita y cata de 3 vinso a MAS RODÓ. No es una Reserva\, si no una «petició nde reserva» . Whatsap al 649877486. \nAGOSTO CERRADO
URL:https://www.masrodo.com/event/visita-y-cata-de-3-vinos-2/2026-06-27/
LOCATION:Finca Mas Rodó\, Carretera Sant Pere Sacarrera a Sant Joan de Mediona\, Km 2\,\, Sant Joan de Mediona\, Barcelona\, 08773\, Spain
ORGANIZER;CN="Mas Rod%C3%B3":MAILTO:enoturisme@masrodo.com
END:VEVENT
BEGIN:VEVENT
DTSTART;TZID=Europe/Paris:20260628T110000
DTEND;TZID=Europe/Paris:20260628T130000
DTSTAMP:20260422T185940
CREATED:20260116T084952Z
LAST-MODIFIED:20260116T084952Z
UID:19009-1782644400-1782651600@www.masrodo.com
SUMMARY:VISITA Y CATA DE 3 VINOS
DESCRIPTION:Visita y cata de 3 vinso a MAS RODÓ. No es una Reserva\, si no una «petició nde reserva» . Whatsap al 649877486. \nAGOSTO CERRADO
URL:https://www.masrodo.com/event/visita-y-cata-de-3-vinos-2/2026-06-28/
LOCATION:Finca Mas Rodó\, Carretera Sant Pere Sacarrera a Sant Joan de Mediona\, Km 2\,\, Sant Joan de Mediona\, Barcelona\, 08773\, Spain
ORGANIZER;CN="Mas Rod%C3%B3":MAILTO:enoturisme@masrodo.com
END:VEVENT
BEGIN:VEVENT
DTSTART;TZID=Europe/Paris:20260704T110000
DTEND;TZID=Europe/Paris:20260704T130000
DTSTAMP:20260422T185940
CREATED:20260116T084952Z
LAST-MODIFIED:20260116T084952Z
UID:19010-1783162800-1783170000@www.masrodo.com
SUMMARY:VISITA Y CATA DE 3 VINOS
DESCRIPTION:Visita y cata de 3 vinso a MAS RODÓ. No es una Reserva\, si no una «petició nde reserva» . Whatsap al 649877486. \nAGOSTO CERRADO
URL:https://www.masrodo.com/event/visita-y-cata-de-3-vinos-2/2026-07-04/
LOCATION:Finca Mas Rodó\, Carretera Sant Pere Sacarrera a Sant Joan de Mediona\, Km 2\,\, Sant Joan de Mediona\, Barcelona\, 08773\, Spain
ORGANIZER;CN="Mas Rod%C3%B3":MAILTO:enoturisme@masrodo.com
END:VEVENT
BEGIN:VEVENT
DTSTART;TZID=Europe/Paris:20260705T110000
DTEND;TZID=Europe/Paris:20260705T130000
DTSTAMP:20260422T185940
CREATED:20260116T084952Z
LAST-MODIFIED:20260116T084952Z
UID:19011-1783249200-1783256400@www.masrodo.com
SUMMARY:VISITA Y CATA DE 3 VINOS
DESCRIPTION:Visita y cata de 3 vinso a MAS RODÓ. No es una Reserva\, si no una «petició nde reserva» . Whatsap al 649877486. \nAGOSTO CERRADO
URL:https://www.masrodo.com/event/visita-y-cata-de-3-vinos-2/2026-07-05/
LOCATION:Finca Mas Rodó\, Carretera Sant Pere Sacarrera a Sant Joan de Mediona\, Km 2\,\, Sant Joan de Mediona\, Barcelona\, 08773\, Spain
ORGANIZER;CN="Mas Rod%C3%B3":MAILTO:enoturisme@masrodo.com
END:VEVENT
BEGIN:VEVENT
DTSTART;TZID=Europe/Paris:20260711T110000
DTEND;TZID=Europe/Paris:20260711T130000
DTSTAMP:20260422T185940
CREATED:20260116T084952Z
LAST-MODIFIED:20260116T084952Z
UID:19012-1783767600-1783774800@www.masrodo.com
SUMMARY:VISITA Y CATA DE 3 VINOS
DESCRIPTION:Visita y cata de 3 vinso a MAS RODÓ. No es una Reserva\, si no una «petició nde reserva» . Whatsap al 649877486. \nAGOSTO CERRADO
URL:https://www.masrodo.com/event/visita-y-cata-de-3-vinos-2/2026-07-11/
LOCATION:Finca Mas Rodó\, Carretera Sant Pere Sacarrera a Sant Joan de Mediona\, Km 2\,\, Sant Joan de Mediona\, Barcelona\, 08773\, Spain
ORGANIZER;CN="Mas Rod%C3%B3":MAILTO:enoturisme@masrodo.com
END:VEVENT
BEGIN:VEVENT
DTSTART;TZID=Europe/Paris:20260712T110000
DTEND;TZID=Europe/Paris:20260712T130000
DTSTAMP:20260422T185940
CREATED:20260116T084952Z
LAST-MODIFIED:20260116T084952Z
UID:19013-1783854000-1783861200@www.masrodo.com
SUMMARY:VISITA Y CATA DE 3 VINOS
DESCRIPTION:Visita y cata de 3 vinso a MAS RODÓ. No es una Reserva\, si no una «petició nde reserva» . Whatsap al 649877486. \nAGOSTO CERRADO
URL:https://www.masrodo.com/event/visita-y-cata-de-3-vinos-2/2026-07-12/
LOCATION:Finca Mas Rodó\, Carretera Sant Pere Sacarrera a Sant Joan de Mediona\, Km 2\,\, Sant Joan de Mediona\, Barcelona\, 08773\, Spain
ORGANIZER;CN="Mas Rod%C3%B3":MAILTO:enoturisme@masrodo.com
END:VEVENT
BEGIN:VEVENT
DTSTART;TZID=Europe/Paris:20260718T110000
DTEND;TZID=Europe/Paris:20260718T130000
DTSTAMP:20260422T185940
CREATED:20260116T084534Z
LAST-MODIFIED:20260116T084534Z
UID:19018-1784372400-1784379600@www.masrodo.com
SUMMARY:Visita i Tast de 3 vins
DESCRIPTION:Visita i tast de 3 vins a MAS RODÓ. Això no és una Reserva\, sinó una «petició de reserva» . Podeu escriure també per whatsap al 649877486. \nAGOST TANCAT.
URL:https://www.masrodo.com/event/visita-i-tast-de-3-vins-2/2026-07-18/
LOCATION:Finca Mas Rodó\, Carretera Sant Pere Sacarrera a Sant Joan de Mediona\, Km 2\,\, Sant Joan de Mediona\, Barcelona\, 08773\, Spain
ORGANIZER;CN="Mas Rod%C3%B3":MAILTO:enoturisme@masrodo.com
END:VEVENT
BEGIN:VEVENT
DTSTART;TZID=Europe/Paris:20260718T110000
DTEND;TZID=Europe/Paris:20260718T130000
DTSTAMP:20260422T185940
CREATED:20260116T084952Z
LAST-MODIFIED:20260116T084952Z
UID:19014-1784372400-1784379600@www.masrodo.com
SUMMARY:VISITA Y CATA DE 3 VINOS
DESCRIPTION:Visita y cata de 3 vinso a MAS RODÓ. No es una Reserva\, si no una «petició nde reserva» . Whatsap al 649877486. \nAGOSTO CERRADO
URL:https://www.masrodo.com/event/visita-y-cata-de-3-vinos-2/2026-07-18/
LOCATION:Finca Mas Rodó\, Carretera Sant Pere Sacarrera a Sant Joan de Mediona\, Km 2\,\, Sant Joan de Mediona\, Barcelona\, 08773\, Spain
ORGANIZER;CN="Mas Rod%C3%B3":MAILTO:enoturisme@masrodo.com
END:VEVENT
BEGIN:VEVENT
DTSTART;TZID=Europe/Paris:20260718T110000
DTEND;TZID=Europe/Paris:20260718T130000
DTSTAMP:20260422T185940
CREATED:20260116T084952Z
LAST-MODIFIED:20260116T084952Z
UID:19022-1784372400-1784379600@www.masrodo.com
SUMMARY:VISITA Y CATA DE 3 VINOS
DESCRIPTION:Visita y cata de 3 vinso a MAS RODÓ. No es una Reserva\, si no una «petició nde reserva» . Whatsap al 649877486. \nAGOSTO CERRADO
URL:https://www.masrodo.com/event/visita-y-cata-de-3-vinos-2/2026-07-18/
LOCATION:Finca Mas Rodó\, Carretera Sant Pere Sacarrera a Sant Joan de Mediona\, Km 2\,\, Sant Joan de Mediona\, Barcelona\, 08773\, Spain
ORGANIZER;CN="Mas Rod%C3%B3":MAILTO:enoturisme@masrodo.com
END:VEVENT
BEGIN:VEVENT
DTSTART;TZID=Europe/Paris:20260719T110000
DTEND;TZID=Europe/Paris:20260719T130000
DTSTAMP:20260422T185940
CREATED:20260116T084534Z
LAST-MODIFIED:20260116T084534Z
UID:19019-1784458800-1784466000@www.masrodo.com
SUMMARY:Visita i Tast de 3 vins
DESCRIPTION:Visita i tast de 3 vins a MAS RODÓ. Això no és una Reserva\, sinó una «petició de reserva» . Podeu escriure també per whatsap al 649877486. \nAGOST TANCAT.
URL:https://www.masrodo.com/event/visita-i-tast-de-3-vins-2/2026-07-19/
LOCATION:Finca Mas Rodó\, Carretera Sant Pere Sacarrera a Sant Joan de Mediona\, Km 2\,\, Sant Joan de Mediona\, Barcelona\, 08773\, Spain
ORGANIZER;CN="Mas Rod%C3%B3":MAILTO:enoturisme@masrodo.com
END:VEVENT
END:VCALENDAR