BEGIN:VCALENDAR
VERSION:2.0
PRODID:-//Mas Rodó - ECPv6.2.2//NONSGML v1.0//EN
CALSCALE:GREGORIAN
METHOD:PUBLISH
X-WR-CALNAME:Mas Rodó
X-ORIGINAL-URL:https://www.masrodo.com/ca/
X-WR-CALDESC:Esdeveniments per Mas Rodó
REFRESH-INTERVAL;VALUE=DURATION:PT1H
X-Robots-Tag:noindex
X-PUBLISHED-TTL:PT1H
BEGIN:VTIMEZONE
TZID:Europe/Paris
BEGIN:DAYLIGHT
TZOFFSETFROM:+0100
TZOFFSETTO:+0200
TZNAME:CEST
DTSTART:20260329T010000
END:DAYLIGHT
BEGIN:STANDARD
TZOFFSETFROM:+0200
TZOFFSETTO:+0100
TZNAME:CET
DTSTART:20261025T010000
END:STANDARD
END:VTIMEZONE
BEGIN:VEVENT
DTSTART;TZID=Europe/Paris:20260425T110000
DTEND;TZID=Europe/Paris:20260425T130000
DTSTAMP:20260422T123137
CREATED:20260116T084534Z
LAST-MODIFIED:20260116T084534Z
UID:18959-1777114800-1777122000@www.masrodo.com
SUMMARY:Visita i Tast de 3 vins
DESCRIPTION:Visita i tast de 3 vins a MAS RODÓ. Això no és una Reserva\, sinó una “petició de reserva” . Podeu escriure també per whatsap al 649877486. \nAGOST TANCAT.
URL:https://www.masrodo.com/ca/event/visita-i-tast-de-3-vins-2/2026-04-25/
LOCATION:Finca Mas Rodó\, Carretera Sant Pere Sacarrera a Sant Joan de Mediona\, Km 2\,\, Sant Joan de Mediona\, Barcelona\, 08773\, Spain
ORGANIZER;CN="Mas Rod%C3%B3":MAILTO:enoturisme@masrodo.com
END:VEVENT
BEGIN:VEVENT
DTSTART;TZID=Europe/Paris:20260426T110000
DTEND;TZID=Europe/Paris:20260426T130000
DTSTAMP:20260422T123137
CREATED:20260116T084534Z
LAST-MODIFIED:20260116T084534Z
UID:18960-1777201200-1777208400@www.masrodo.com
SUMMARY:Visita i Tast de 3 vins
DESCRIPTION:Visita i tast de 3 vins a MAS RODÓ. Això no és una Reserva\, sinó una “petició de reserva” . Podeu escriure també per whatsap al 649877486. \nAGOST TANCAT.
URL:https://www.masrodo.com/ca/event/visita-i-tast-de-3-vins-2/2026-04-26/
LOCATION:Finca Mas Rodó\, Carretera Sant Pere Sacarrera a Sant Joan de Mediona\, Km 2\,\, Sant Joan de Mediona\, Barcelona\, 08773\, Spain
ORGANIZER;CN="Mas Rod%C3%B3":MAILTO:enoturisme@masrodo.com
END:VEVENT
END:VCALENDAR